Package: oncomix Version: 1.29.0 Command: /Library/Frameworks/R.framework/Resources/bin/R CMD build --keep-empty-dirs --no-resave-data oncomix StartedAt: 2025-02-03 17:45:53 -0500 (Mon, 03 Feb 2025) EndedAt: 2025-02-03 17:46:10 -0500 (Mon, 03 Feb 2025) EllapsedTime: 16.2 seconds RetCode: 0 Status: OK PackageFile: oncomix_1.29.0.tar.gz PackageFileSize: 2.437 MiB