Package: oncomix Version: 1.29.0 Command: /home/biocbuild/R/R/bin/R CMD check --install=check:oncomix.install-out.txt --library=/home/biocbuild/R/R/site-library --no-vignettes --timings oncomix_1.29.0.tar.gz StartedAt: 2025-01-28 13:29:27 -0000 (Tue, 28 Jan 2025) EndedAt: 2025-01-28 13:34:00 -0000 (Tue, 28 Jan 2025) EllapsedTime: 273.6 seconds RetCode: 0 Status: OK CheckDir: oncomix.Rcheck Warnings: 0