Package: oncomix Version: 1.29.0 Command: /home/biocbuild/R/R/bin/R CMD INSTALL oncomix StartedAt: 2025-01-29 19:42:45 -0000 (Wed, 29 Jan 2025) EndedAt: 2025-01-29 19:43:16 -0000 (Wed, 29 Jan 2025) EllapsedTime: 30.1 seconds RetCode: 0 Status: OK