Package: oncomix Version: 1.29.0 Command: rm -rf oncomix.buildbin-libdir && mkdir oncomix.buildbin-libdir && /Users/biocbuild/BBS/utils/build-universal.sh oncomix_1.29.0.tar.gz /Library/Frameworks/R.framework/Resources/bin/R oncomix.buildbin-libdir StartedAt: 2025-02-04 00:47:06 -0500 (Tue, 04 Feb 2025) EndedAt: 2025-02-04 00:47:38 -0500 (Tue, 04 Feb 2025) EllapsedTime: 32.3 seconds RetCode: 0 Status: OK PackageFile: oncomix_1.29.0.tgz PackageFileSize: 2.462 MiB