Package: oncomix Version: 1.29.0 Command: /Library/Frameworks/R.framework/Resources/bin/R CMD INSTALL oncomix StartedAt: 2025-02-03 15:15:10 -0500 (Mon, 03 Feb 2025) EndedAt: 2025-02-03 15:15:40 -0500 (Mon, 03 Feb 2025) EllapsedTime: 29.9 seconds RetCode: 0 Status: OK