Package: oncomix Version: 1.29.0 Command: /home/biocbuild/bbs-3.21-bioc/R/bin/R CMD build --keep-empty-dirs --no-resave-data oncomix StartedAt: 2025-02-03 18:38:27 -0500 (Mon, 03 Feb 2025) EndedAt: 2025-02-03 18:39:08 -0500 (Mon, 03 Feb 2025) EllapsedTime: 41.0 seconds RetCode: 0 Status: OK PackageFile: oncomix_1.29.0.tar.gz PackageFileSize: 2.395 MiB