Package: oncomix Version: 1.29.0 Command: /home/biocbuild/bbs-3.21-bioc/R/bin/R CMD check --install=check:oncomix.install-out.txt --library=/home/biocbuild/bbs-3.21-bioc/R/site-library --timings oncomix_1.29.0.tar.gz StartedAt: 2025-02-04 01:03:04 -0500 (Tue, 04 Feb 2025) EndedAt: 2025-02-04 01:06:07 -0500 (Tue, 04 Feb 2025) EllapsedTime: 183.2 seconds RetCode: 0 Status: OK CheckDir: oncomix.Rcheck Warnings: 0