Package: oncomix Version: 1.29.0 Command: chmod a+r oncomix -R && E:\biocbuild\bbs-3.21-bioc\R\bin\R.exe CMD build --keep-empty-dirs --no-resave-data oncomix StartedAt: 2025-02-03 20:38:58 -0500 (Mon, 03 Feb 2025) EndedAt: 2025-02-03 20:42:00 -0500 (Mon, 03 Feb 2025) EllapsedTime: 182.3 seconds RetCode: 0 Status: OK PackageFile: oncomix_1.29.0.tar.gz PackageFileSize: 1.689 MiB