Package: ontoProc Version: 2.1.4 Command: /home/biocbuild/R/R/bin/R CMD build --keep-empty-dirs --no-resave-data ontoProc StartedAt: 2025-01-29 01:01:37 -0000 (Wed, 29 Jan 2025) EndedAt: 2025-01-29 01:16:24 -0000 (Wed, 29 Jan 2025) EllapsedTime: 887.3 seconds RetCode: 0 Status: OK PackageFile: ontoProc_2.1.4.tar.gz PackageFileSize: 13.08 MiB