Package: ontoProc Version: 2.1.4 Command: /home/biocbuild/R/R/bin/R CMD INSTALL ontoProc StartedAt: 2025-01-29 20:09:27 -0000 (Wed, 29 Jan 2025) EndedAt: 2025-01-29 20:10:13 -0000 (Wed, 29 Jan 2025) EllapsedTime: 45.6 seconds RetCode: 0 Status: OK