############################################################################## ############################################################################## ### ### Running command: ### ### /Library/Frameworks/R.framework/Resources/bin/R CMD check --install=check:ontoProc.install-out.txt --library=/Library/Frameworks/R.framework/Resources/library --no-vignettes --timings ontoProc_2.1.4.tar.gz ### ############################################################################## ############################################################################## * using log directory ‘/Users/biocbuild/bbs-3.21-bioc/meat/ontoProc.Rcheck’ * using R Under development (unstable) (2025-01-22 r87618) * using platform: x86_64-apple-darwin20 * R was compiled by Apple clang version 14.0.0 (clang-1400.0.29.202) GNU Fortran (GCC) 14.2.0 * running under: macOS Monterey 12.7.6 * using session charset: UTF-8 * using option ‘--no-vignettes’ * checking for file ‘ontoProc/DESCRIPTION’ ... OK * this is package ‘ontoProc’ version ‘2.1.4’ * package encoding: UTF-8 * checking package namespace information ... OK * checking package dependencies ... OK * checking if this is a source package ... OK * checking if there is a namespace ... OK * checking for hidden files and directories ... OK * checking for portable file names ... OK * checking for sufficient/correct file permissions ... OK * checking whether package ‘ontoProc’ can be installed ... OK * checking installed package size ... INFO installed size is 10.4Mb sub-directories of 1Mb or more: app 1.9Mb data 1.8Mb ontoRda 2.8Mb owl 3.3Mb * checking package directory ... OK * checking ‘build’ directory ... OK * checking DESCRIPTION meta-information ... OK * checking top-level files ... OK * checking for left-over files ... OK * checking index information ... OK * checking package subdirectories ... OK * checking code files for non-ASCII characters ... OK * checking R files for syntax errors ... OK * checking whether the package can be loaded ... OK * checking whether the package can be loaded with stated dependencies ... OK * checking whether the package can be unloaded cleanly ... OK * checking whether the namespace can be loaded with stated dependencies ... OK * checking whether the namespace can be unloaded cleanly ... OK * checking dependencies in R code ... NOTE ':::' call which should be '::': ‘ontologyPlot:::remove_uninformative_terms’ See the note in ?`:::` about the use of this operator. * checking S3 generic/method consistency ... OK * checking replacement functions ... OK * checking foreign function calls ... OK * checking R code for possible problems ... NOTE CLfeat : prupdate: no visible binding for global variable ‘PROSYM’ CLfeat : prupdate: no visible binding for global variable ‘PRID’ CLfeat : prupdate: no visible binding for global variable ‘SYMBOL’ ctmarks : server: no visible binding for global variable ‘text’ ctmarks : server: no visible binding for global variable ‘packDesc2022’ ctmarks : server: no visible binding for global variable ‘packDesc2021’ ctmarks: no visible binding for global variable ‘cumu’ dropStop: no visible binding for global variable ‘stopWords’ getOnto: no visible binding for global variable ‘rdatadateadded’ getOnto: no visible binding for global variable ‘title’ getOnto: no visible binding for global variable ‘description’ ldfToTerm: no visible binding for global variable ‘PROSYM’ sym2CellOnto: no visible binding for global variable ‘PROSYM’ sym2CellOnto: no visible binding for global variable ‘SYMBOL’ Undefined global functions or variables: PRID PROSYM SYMBOL cumu description packDesc2021 packDesc2022 rdatadateadded stopWords text title Consider adding importFrom("graphics", "text", "title") to your NAMESPACE file. * checking Rd files ... OK * checking Rd metadata ... OK * checking Rd cross-references ... NOTE Found the following Rd file(s) with Rd \link{} targets missing package anchors: findCommonAncestors.Rd: graph, DataFrame-class, List-class Please provide package anchors for all Rd \link{} targets not in the package itself and the base packages. * checking for missing documentation entries ... OK * checking for code/documentation mismatches ... OK * checking Rd \usage sections ... NOTE S3 methods shown with full name in Rd file 'plot.owlents.Rd': ‘plot.owlents’ The \usage entries for S3 methods should use the \method markup and not their full name. See chapter ‘Writing R documentation files’ in the ‘Writing R Extensions’ manual. * checking Rd contents ... OK * checking for unstated dependencies in examples ... OK * checking contents of ‘data’ directory ... OK * checking data for non-ASCII characters ... OK * checking data for ASCII and uncompressed saves ... OK * checking files in ‘vignettes’ ... OK * checking examples ... OK Examples with CPU (user + system) or elapsed time > 5s user system elapsed sym2CellOnto 48.724 1.160 50.928 CLfeats 32.777 8.623 82.264 siblings_TAG 26.381 1.218 28.385 fastGrep 21.501 0.629 33.713 nomenCheckup 20.746 0.596 29.080 getLeavesFromTerm 18.808 0.716 30.987 cleanCLOnames 15.053 1.203 18.018 findCommonAncestors 13.835 0.822 30.954 TermSet-class 10.306 2.307 19.720 common_classes 11.689 0.881 12.867 make_graphNEL_from_ontology_plot 10.738 0.461 15.311 ontoDiff 9.833 0.845 21.296 getOnto 9.719 0.596 14.815 mapOneNaive 9.892 0.385 12.157 liberalMap 9.670 0.409 10.953 onto_plot2 8.366 0.611 10.205 selectFromMap 8.459 0.330 9.052 secLevGen 8.189 0.327 9.100 labels.owlents 0.479 0.411 7.739 search_labels 0.447 0.040 88.591 bioregistry_ols_resources 0.047 0.019 16.628 * checking for unstated dependencies in ‘tests’ ... OK * checking tests ... Running ‘test.R’ OK * checking for unstated dependencies in vignettes ... OK * checking package vignettes ... OK * checking running R code from vignettes ... SKIPPED * checking re-building of vignette outputs ... SKIPPED * checking PDF version of manual ... OK * DONE Status: 4 NOTEs See ‘/Users/biocbuild/bbs-3.21-bioc/meat/ontoProc.Rcheck/00check.log’ for details.