Package: ontoProc Version: 2.1.4 Command: /home/biocbuild/bbs-3.21-bioc/R/bin/R CMD build --keep-empty-dirs --no-resave-data ontoProc StartedAt: 2025-02-03 18:39:08 -0500 (Mon, 03 Feb 2025) EndedAt: 2025-02-03 18:42:13 -0500 (Mon, 03 Feb 2025) EllapsedTime: 185.3 seconds RetCode: 0 Status: OK PackageFile: ontoProc_2.1.4.tar.gz PackageFileSize: 13.67 MiB