Package: ontoProc Version: 2.1.4 Command: /home/biocbuild/bbs-3.21-bioc/R/bin/R CMD INSTALL ontoProc StartedAt: 2025-02-09 15:34:12 -0500 (Sun, 09 Feb 2025) EndedAt: 2025-02-09 15:34:46 -0500 (Sun, 09 Feb 2025) EllapsedTime: 33.1 seconds RetCode: 0 Status: OK