Package: ontoProc Version: 2.1.4 Command: rm -rf ontoProc.buildbin-libdir && mkdir ontoProc.buildbin-libdir && E:\biocbuild\bbs-3.21-bioc\R\bin\R.exe CMD INSTALL --build --library=ontoProc.buildbin-libdir ontoProc_2.1.4.tar.gz StartedAt: 2025-02-10 08:19:25 -0500 (Mon, 10 Feb 2025) EndedAt: 2025-02-10 08:20:38 -0500 (Mon, 10 Feb 2025) EllapsedTime: 73.6 seconds RetCode: 0 Status: OK PackageFile: ontoProc_2.1.4.zip PackageFileSize: 10.74 MiB