Package: ontoProc Version: 2.1.4 Command: E:\biocbuild\bbs-3.21-bioc\R\bin\R.exe CMD INSTALL ontoProc StartedAt: 2025-02-03 16:45:22 -0500 (Mon, 03 Feb 2025) EndedAt: 2025-02-03 16:46:27 -0500 (Mon, 03 Feb 2025) EllapsedTime: 64.5 seconds RetCode: 0 Status: OK