Package: openCyto Version: 2.19.0 Command: /Library/Frameworks/R.framework/Resources/bin/R CMD build --keep-empty-dirs --no-resave-data openCyto StartedAt: 2025-02-12 17:09:45 -0500 (Wed, 12 Feb 2025) EndedAt: 2025-02-12 17:10:14 -0500 (Wed, 12 Feb 2025) EllapsedTime: 28.3 seconds RetCode: 0 Status: OK PackageFile: openCyto_2.19.0.tar.gz PackageFileSize: 2.458 MiB