Package: openCyto Version: 2.19.0 Command: /home/biocbuild/R/R/bin/R CMD check --install=check:openCyto.install-out.txt --library=/home/biocbuild/R/R/site-library --no-vignettes --timings openCyto_2.19.0.tar.gz StartedAt: 2025-01-28 13:31:23 -0000 (Tue, 28 Jan 2025) EndedAt: 2025-01-28 13:35:36 -0000 (Tue, 28 Jan 2025) EllapsedTime: 252.4 seconds RetCode: 0 Status: WARNINGS CheckDir: openCyto.Rcheck Warnings: 4