Package: openCyto Version: 2.19.0 Command: rm -rf openCyto.buildbin-libdir && mkdir openCyto.buildbin-libdir && /Users/biocbuild/BBS/utils/build-universal.sh openCyto_2.19.0.tar.gz /Library/Frameworks/R.framework/Resources/bin/R openCyto.buildbin-libdir StartedAt: 2025-02-10 01:06:51 -0500 (Mon, 10 Feb 2025) EndedAt: 2025-02-10 01:07:32 -0500 (Mon, 10 Feb 2025) EllapsedTime: 40.3 seconds RetCode: 0 Status: OK PackageFile: openCyto_2.19.0.tgz PackageFileSize: 2.702 MiB