Package: openCyto Version: 2.19.0 Command: /Library/Frameworks/R.framework/Resources/bin/R CMD check --install=check:openCyto.install-out.txt --library=/Library/Frameworks/R.framework/Resources/library --no-vignettes --timings openCyto_2.19.0.tar.gz StartedAt: 2025-02-12 22:13:05 -0500 (Wed, 12 Feb 2025) EndedAt: 2025-02-12 22:15:54 -0500 (Wed, 12 Feb 2025) EllapsedTime: 168.8 seconds RetCode: 0 Status: WARNINGS CheckDir: openCyto.Rcheck Warnings: 4