Package: openCyto Version: 2.19.0 Command: /Library/Frameworks/R.framework/Resources/bin/R CMD INSTALL openCyto StartedAt: 2025-02-09 15:16:46 -0500 (Sun, 09 Feb 2025) EndedAt: 2025-02-09 15:17:23 -0500 (Sun, 09 Feb 2025) EllapsedTime: 37.0 seconds RetCode: 0 Status: OK