Package: openCyto Version: 2.19.0 Command: /home/biocbuild/bbs-3.21-bioc/R/bin/R CMD check --install=check:openCyto.install-out.txt --library=/home/biocbuild/bbs-3.21-bioc/R/site-library --timings openCyto_2.19.0.tar.gz StartedAt: 2025-02-13 00:57:55 -0500 (Thu, 13 Feb 2025) EndedAt: 2025-02-13 01:01:08 -0500 (Thu, 13 Feb 2025) EllapsedTime: 193.3 seconds RetCode: 0 Status: WARNINGS CheckDir: openCyto.Rcheck Warnings: 4