############################################################################## ############################################################################## ### ### Running command: ### ### /home/biocbuild/bbs-3.21-bioc/R/bin/R CMD INSTALL openCyto ### ############################################################################## ############################################################################## * installing to library ‘/home/biocbuild/bbs-3.21-bioc/R/site-library’ * installing *source* package ‘openCyto’ ... ** this is package ‘openCyto’ version ‘2.19.0’ ** using staged installation ** libs using C++ compiler: ‘g++ (Ubuntu 13.3.0-6ubuntu2~24.04) 13.3.0’ using C++17 g++ -std=gnu++17 -I"/home/biocbuild/bbs-3.21-bioc/R/include" -DNDEBUG -I'/home/biocbuild/bbs-3.21-bioc/R/site-library/cpp11/include' -I'/home/biocbuild/bbs-3.21-bioc/R/site-library/BH/include' -I/usr/local/include -fpic -g -O2 -DR_NO_REMAP -c Hungarian.cpp -o Hungarian.o g++ -std=gnu++17 -I"/home/biocbuild/bbs-3.21-bioc/R/include" -DNDEBUG -I'/home/biocbuild/bbs-3.21-bioc/R/site-library/cpp11/include' -I'/home/biocbuild/bbs-3.21-bioc/R/site-library/BH/include' -I/usr/local/include -fpic -g -O2 -DR_NO_REMAP -c cpp11.cpp -o cpp11.o g++ -std=gnu++17 -I"/home/biocbuild/bbs-3.21-bioc/R/include" -DNDEBUG -I'/home/biocbuild/bbs-3.21-bioc/R/site-library/cpp11/include' -I'/home/biocbuild/bbs-3.21-bioc/R/site-library/BH/include' -I/usr/local/include -fpic -g -O2 -DR_NO_REMAP -c misc.cpp -o misc.o g++ -std=gnu++17 -I"/home/biocbuild/bbs-3.21-bioc/R/include" -DNDEBUG -I'/home/biocbuild/bbs-3.21-bioc/R/site-library/cpp11/include' -I'/home/biocbuild/bbs-3.21-bioc/R/site-library/BH/include' -I/usr/local/include -fpic -g -O2 -DR_NO_REMAP -c rlm.cpp -o rlm.o g++ -std=gnu++17 -I"/home/biocbuild/bbs-3.21-bioc/R/include" -DNDEBUG -I'/home/biocbuild/bbs-3.21-bioc/R/site-library/cpp11/include' -I'/home/biocbuild/bbs-3.21-bioc/R/site-library/BH/include' -I/usr/local/include -fpic -g -O2 -DR_NO_REMAP -c solve_LSAP.cpp -o solve_LSAP.o g++ -std=gnu++17 -I"/home/biocbuild/bbs-3.21-bioc/R/include" -DNDEBUG -I'/home/biocbuild/bbs-3.21-bioc/R/site-library/cpp11/include' -I'/home/biocbuild/bbs-3.21-bioc/R/site-library/BH/include' -I/usr/local/include -fpic -g -O2 -DR_NO_REMAP -c unlockNamespace.cpp -o unlockNamespace.o g++ -std=gnu++17 -shared -L/home/biocbuild/bbs-3.21-bioc/R/lib -L/usr/local/lib -o openCyto.so Hungarian.o cpp11.o misc.o rlm.o solve_LSAP.o unlockNamespace.o -L/home/biocbuild/bbs-3.21-bioc/R/lib -lR installing to /home/biocbuild/bbs-3.21-bioc/R/site-library/00LOCK-openCyto/00new/openCyto/libs ** R ** inst ** byte-compile and prepare package for lazy loading ** help *** installing help indices ** building package indices ** installing vignettes ** testing if installed package can be loaded from temporary location ** checking absolute paths in shared objects and dynamic libraries ** testing if installed package can be loaded from final location ** testing if installed package keeps a record of temporary installation path * DONE (openCyto)