Package: openCyto Version: 2.19.0 Command: chmod a+r openCyto -R && E:\biocbuild\bbs-3.21-bioc\R\bin\R.exe CMD build --keep-empty-dirs --no-resave-data openCyto StartedAt: 2025-02-09 20:26:51 -0500 (Sun, 09 Feb 2025) EndedAt: 2025-02-09 20:34:37 -0500 (Sun, 09 Feb 2025) EllapsedTime: 466.2 seconds RetCode: 0 Status: OK PackageFile: openCyto_2.19.0.tar.gz PackageFileSize: 1.047 MiB