Package: oposSOM Version: 2.25.0 Command: /Library/Frameworks/R.framework/Resources/bin/R CMD build --keep-empty-dirs --no-resave-data oposSOM StartedAt: 2025-02-12 17:42:39 -0500 (Wed, 12 Feb 2025) EndedAt: 2025-02-12 17:43:31 -0500 (Wed, 12 Feb 2025) EllapsedTime: 51.5 seconds RetCode: 0 Status: OK PackageFile: oposSOM_2.25.0.tar.gz PackageFileSize: 13.35 MiB