Package: oposSOM Version: 2.25.0 Command: /home/biocbuild/bbs-3.21-bioc/R/bin/R CMD INSTALL oposSOM StartedAt: 2025-02-09 15:26:42 -0500 (Sun, 09 Feb 2025) EndedAt: 2025-02-09 15:27:16 -0500 (Sun, 09 Feb 2025) EllapsedTime: 33.8 seconds RetCode: 0 Status: OK