Package: oppar Version: 1.35.0 Command: /Library/Frameworks/R.framework/Resources/bin/R CMD check --install=check:oppar.install-out.txt --library=/Library/Frameworks/R.framework/Resources/library --no-vignettes --timings oppar_1.35.0.tar.gz StartedAt: 2025-02-04 20:32:38 -0500 (Tue, 04 Feb 2025) EndedAt: 2025-02-04 20:34:30 -0500 (Tue, 04 Feb 2025) EllapsedTime: 112.4 seconds RetCode: 0 Status: WARNINGS CheckDir: oppar.Rcheck Warnings: 2