Package: oppar Version: 1.35.0 Command: /home/biocbuild/R/R/bin/R CMD build --keep-empty-dirs --no-resave-data oppar StartedAt: 2025-01-29 01:02:22 -0000 (Wed, 29 Jan 2025) EndedAt: 2025-01-29 01:04:26 -0000 (Wed, 29 Jan 2025) EllapsedTime: 124.2 seconds RetCode: 0 Status: OK PackageFile: oppar_1.35.0.tar.gz PackageFileSize: 3.386 MiB