Package: oppar Version: 1.35.0 Command: rm -rf oppar.buildbin-libdir && mkdir oppar.buildbin-libdir && /Users/biocbuild/BBS/utils/build-universal.sh oppar_1.35.0.tar.gz /Library/Frameworks/R.framework/Resources/bin/R oppar.buildbin-libdir StartedAt: 2025-02-10 01:06:57 -0500 (Mon, 10 Feb 2025) EndedAt: 2025-02-10 01:07:54 -0500 (Mon, 10 Feb 2025) EllapsedTime: 56.6 seconds RetCode: 0 Status: OK PackageFile: oppar_1.35.0.tgz PackageFileSize: 5.262 MiB