Package: oppar Version: 1.35.0 Command: /Library/Frameworks/R.framework/Resources/bin/R CMD build --keep-empty-dirs --no-resave-data oppar StartedAt: 2025-02-09 17:49:22 -0500 (Sun, 09 Feb 2025) EndedAt: 2025-02-09 17:50:39 -0500 (Sun, 09 Feb 2025) EllapsedTime: 76.6 seconds RetCode: 0 Status: OK PackageFile: oppar_1.35.0.tar.gz PackageFileSize: 3.399 MiB