Package: oppar Version: 1.35.0 Command: /Library/Frameworks/R.framework/Resources/bin/R CMD check --install=check:oppar.install-out.txt --library=/Library/Frameworks/R.framework/Resources/library --no-vignettes --timings oppar_1.35.0.tar.gz StartedAt: 2025-02-09 22:27:17 -0500 (Sun, 09 Feb 2025) EndedAt: 2025-02-09 22:34:17 -0500 (Sun, 09 Feb 2025) EllapsedTime: 419.7 seconds RetCode: 0 Status: WARNINGS CheckDir: oppar.Rcheck Warnings: 2