Package: oppar Version: 1.35.0 Command: /Library/Frameworks/R.framework/Resources/bin/R CMD INSTALL oppar StartedAt: 2025-02-04 15:39:06 -0500 (Tue, 04 Feb 2025) EndedAt: 2025-02-04 15:39:57 -0500 (Tue, 04 Feb 2025) EllapsedTime: 51.0 seconds RetCode: 0 Status: OK