Package: oppar Version: 1.35.0 Command: rm -rf oppar.buildbin-libdir && mkdir oppar.buildbin-libdir && E:\biocbuild\bbs-3.21-bioc\R\bin\R.exe CMD INSTALL --build --library=oppar.buildbin-libdir oppar_1.35.0.tar.gz StartedAt: 2025-02-10 08:19:32 -0500 (Mon, 10 Feb 2025) EndedAt: 2025-02-10 08:20:32 -0500 (Mon, 10 Feb 2025) EllapsedTime: 60.3 seconds RetCode: 0 Status: OK PackageFile: oppar_1.35.0.zip PackageFileSize: 5.242 MiB