Package: oppti Version: 1.21.0 Command: /home/biocbuild/R/R/bin/R CMD build --keep-empty-dirs --no-resave-data oppti StartedAt: 2025-01-29 01:02:42 -0000 (Wed, 29 Jan 2025) EndedAt: 2025-01-29 01:03:00 -0000 (Wed, 29 Jan 2025) EllapsedTime: 18.1 seconds RetCode: 1 Status: ERROR PackageFile: None PackageFileSize: NA