Package: oppti Version: 1.21.0 Command: /home/biocbuild/bbs-3.21-bioc/R/bin/R CMD check --install=check:oppti.install-out.txt --library=/home/biocbuild/bbs-3.21-bioc/R/site-library --timings oppti_1.21.0.tar.gz StartedAt: 2025-02-10 00:58:34 -0500 (Mon, 10 Feb 2025) EndedAt: 2025-02-10 00:59:44 -0500 (Mon, 10 Feb 2025) EllapsedTime: 70.2 seconds RetCode: 0 Status: WARNINGS CheckDir: oppti.Rcheck Warnings: 1