Package: optimalFlow Version: 1.19.0 Command: rm -rf optimalFlow.buildbin-libdir && mkdir optimalFlow.buildbin-libdir && /Users/biocbuild/BBS/utils/build-universal.sh optimalFlow_1.19.0.tar.gz /Library/Frameworks/R.framework/Resources/bin/R optimalFlow.buildbin-libdir StartedAt: 2025-02-09 22:24:22 -0500 (Sun, 09 Feb 2025) EndedAt: 2025-02-09 22:24:39 -0500 (Sun, 09 Feb 2025) EllapsedTime: 16.4 seconds RetCode: 0 Status: OK PackageFile: optimalFlow_1.19.0.tgz PackageFileSize: 1.101 MiB