Package: optimalFlow Version: 1.19.0 Command: /Library/Frameworks/R.framework/Resources/bin/R CMD build --keep-empty-dirs --no-resave-data optimalFlow StartedAt: 2025-02-09 17:10:11 -0500 (Sun, 09 Feb 2025) EndedAt: 2025-02-09 17:13:29 -0500 (Sun, 09 Feb 2025) EllapsedTime: 198.2 seconds RetCode: 0 Status: OK PackageFile: optimalFlow_1.19.0.tar.gz PackageFileSize: 1.271 MiB