Package: optimalFlow Version: 1.19.0 Command: /home/biocbuild/R/R/bin/R CMD build --keep-empty-dirs --no-resave-data optimalFlow StartedAt: 2025-01-29 01:02:51 -0000 (Wed, 29 Jan 2025) EndedAt: 2025-01-29 01:10:48 -0000 (Wed, 29 Jan 2025) EllapsedTime: 476.8 seconds RetCode: 0 Status: OK PackageFile: optimalFlow_1.19.0.tar.gz PackageFileSize: 1.049 MiB