Package: optimalFlow Version: 1.19.0 Command: /Library/Frameworks/R.framework/Resources/bin/R CMD build --keep-empty-dirs --no-resave-data optimalFlow StartedAt: 2025-02-03 17:47:09 -0500 (Mon, 03 Feb 2025) EndedAt: 2025-02-03 17:55:45 -0500 (Mon, 03 Feb 2025) EllapsedTime: 515.7 seconds RetCode: 0 Status: OK PackageFile: optimalFlow_1.19.0.tar.gz PackageFileSize: 1.272 MiB