Package: optimalFlow Version: 1.19.0 Command: /Library/Frameworks/R.framework/Resources/bin/R CMD check --install=check:optimalFlow.install-out.txt --library=/Library/Frameworks/R.framework/Resources/library --no-vignettes --timings optimalFlow_1.19.0.tar.gz StartedAt: 2025-02-09 22:27:22 -0500 (Sun, 09 Feb 2025) EndedAt: 2025-02-09 22:33:35 -0500 (Sun, 09 Feb 2025) EllapsedTime: 372.6 seconds RetCode: 0 Status: OK CheckDir: optimalFlow.Rcheck Warnings: 0