Package: optimalFlow Version: 1.19.0 Command: /Library/Frameworks/R.framework/Resources/bin/R CMD INSTALL optimalFlow StartedAt: 2025-02-09 15:24:19 -0500 (Sun, 09 Feb 2025) EndedAt: 2025-02-09 15:24:46 -0500 (Sun, 09 Feb 2025) EllapsedTime: 27.1 seconds RetCode: 0 Status: OK