Package: optimalFlow Version: 1.19.0 Command: /home/biocbuild/bbs-3.21-bioc/R/bin/R CMD build --keep-empty-dirs --no-resave-data optimalFlow StartedAt: 2025-02-09 18:30:32 -0500 (Sun, 09 Feb 2025) EndedAt: 2025-02-09 18:37:19 -0500 (Sun, 09 Feb 2025) EllapsedTime: 406.7 seconds RetCode: 0 Status: OK PackageFile: optimalFlow_1.19.0.tar.gz PackageFileSize: 1.318 MiB