Package: optimalFlow Version: 1.19.0 Command: /home/biocbuild/bbs-3.21-bioc/R/bin/R CMD INSTALL optimalFlow StartedAt: 2025-02-09 15:13:47 -0500 (Sun, 09 Feb 2025) EndedAt: 2025-02-09 15:14:04 -0500 (Sun, 09 Feb 2025) EllapsedTime: 16.8 seconds RetCode: 0 Status: OK