Package: optimalFlow Version: 1.19.0 Command: chmod a+r optimalFlow -R && E:\biocbuild\bbs-3.21-bioc\R\bin\R.exe CMD build --keep-empty-dirs --no-resave-data optimalFlow StartedAt: 2025-02-09 20:28:21 -0500 (Sun, 09 Feb 2025) EndedAt: 2025-02-09 20:38:53 -0500 (Sun, 09 Feb 2025) EllapsedTime: 632.6 seconds RetCode: 0 Status: OK PackageFile: optimalFlow_1.19.0.tar.gz PackageFileSize: 935.5 KiB