Package: optimalFlow Version: 1.19.0 Command: E:\biocbuild\bbs-3.21-bioc\R\bin\R.exe CMD check --no-multiarch --install=check:optimalFlow.install-out.txt --library=E:\biocbuild\bbs-3.21-bioc\R\library --no-vignettes --timings optimalFlow_1.19.0.tar.gz StartedAt: 2025-02-04 04:15:29 -0500 (Tue, 04 Feb 2025) EndedAt: 2025-02-04 04:23:48 -0500 (Tue, 04 Feb 2025) EllapsedTime: 499.2 seconds RetCode: 0 Status: OK CheckDir: optimalFlow.Rcheck Warnings: 0