Package: optimalFlow Version: 1.19.0 Command: E:\biocbuild\bbs-3.21-bioc\R\bin\R.exe CMD INSTALL optimalFlow StartedAt: 2025-02-03 15:48:36 -0500 (Mon, 03 Feb 2025) EndedAt: 2025-02-03 15:49:03 -0500 (Mon, 03 Feb 2025) EllapsedTime: 26.4 seconds RetCode: 0 Status: OK