Package: orthogene Version: 1.13.0 Command: rm -rf orthogene.buildbin-libdir && mkdir orthogene.buildbin-libdir && /Users/biocbuild/BBS/utils/build-universal.sh orthogene_1.13.0.tar.gz /Library/Frameworks/R.framework/Resources/bin/R orthogene.buildbin-libdir StartedAt: 2025-02-09 22:24:28 -0500 (Sun, 09 Feb 2025) EndedAt: 2025-02-09 22:24:33 -0500 (Sun, 09 Feb 2025) EllapsedTime: 5.1 seconds RetCode: 0 Status: OK PackageFile: orthogene_1.13.0.tgz PackageFileSize: 2.839 MiB