Package: orthogene Version: 1.13.0 Command: /Library/Frameworks/R.framework/Resources/bin/R CMD build --keep-empty-dirs --no-resave-data orthogene StartedAt: 2025-02-12 17:10:26 -0500 (Wed, 12 Feb 2025) EndedAt: 2025-02-12 17:10:39 -0500 (Wed, 12 Feb 2025) EllapsedTime: 13.1 seconds RetCode: 0 Status: OK PackageFile: orthogene_1.13.0.tar.gz PackageFileSize: 2.641 MiB