Package: orthogene Version: 1.13.0 Command: /home/biocbuild/R/R/bin/R CMD check --install=check:orthogene.install-out.txt --library=/home/biocbuild/R/R/site-library --no-vignettes --timings orthogene_1.13.0.tar.gz StartedAt: 2025-01-28 13:36:54 -0000 (Tue, 28 Jan 2025) EndedAt: 2025-01-28 13:51:49 -0000 (Tue, 28 Jan 2025) EllapsedTime: 895.5 seconds RetCode: 0 Status: OK CheckDir: orthogene.Rcheck Warnings: 0