Package: orthogene Version: 1.13.0 Command: /home/biocbuild/R/R/bin/R CMD INSTALL orthogene StartedAt: 2025-01-29 20:33:09 -0000 (Wed, 29 Jan 2025) EndedAt: 2025-01-29 20:33:22 -0000 (Wed, 29 Jan 2025) EllapsedTime: 13.4 seconds RetCode: 0 Status: OK