Package: orthogene Version: 1.13.0 Command: rm -rf orthogene.buildbin-libdir && mkdir orthogene.buildbin-libdir && /Users/biocbuild/BBS/utils/build-universal.sh orthogene_1.13.0.tar.gz /Library/Frameworks/R.framework/Resources/bin/R orthogene.buildbin-libdir StartedAt: 2025-02-10 01:07:11 -0500 (Mon, 10 Feb 2025) EndedAt: 2025-02-10 01:07:28 -0500 (Mon, 10 Feb 2025) EllapsedTime: 17.3 seconds RetCode: 0 Status: OK PackageFile: orthogene_1.13.0.tgz PackageFileSize: 2.836 MiB